BEGIN:VCALENDAR
VERSION:2.0
PRODID:-//Contratero//ES
CALSCALE:GREGORIAN
METHOD:PUBLISH
BEGIN:VEVENT
UID:92/22 AYTOPARLA@contratero.es
DTSTAMP:20260423T060850Z
DTSTART:20221121T235959
DTEND:20221122T005959
SUMMARY:Cierre: Mantenimiento soporte técnico\, la consultoría y fo
DESCRIPTION:Mantenimiento soporte técnico\, la consultoría y formación del aplicativo GAdE para la gestión del archivo municipal implantado en el Ayuntamiento de PArla\\n\\nOrganismo: Junta de Gobierno del Ayuntamiento de Parla\\n\\nVer en Contratero: https://contratero.es/contracts/92/22 AYTOPARLA
URL:https://contratero.es/contracts/92/22 AYTOPARLA
STATUS:CONFIRMED
BEGIN:VALARM
TRIGGER:-P1D
ACTION:DISPLAY
DESCRIPTION:Recordatorio: Mantenimiento soporte técnico\,
END:VALARM
END:VEVENT
END:VCALENDAR